BEGIN:VCALENDAR
VERSION:2.0
PRODID:-//Dobson Ranch Republicans - ECPv6.15.18//NONSGML v1.0//EN
CALSCALE:GREGORIAN
METHOD:PUBLISH
X-ORIGINAL-URL:https://www.drgop.com
X-WR-CALDESC:Events for Dobson Ranch Republicans
REFRESH-INTERVAL;VALUE=DURATION:PT1H
X-Robots-Tag:noindex
X-PUBLISHED-TTL:PT1H
BEGIN:VTIMEZONE
TZID:America/Phoenix
BEGIN:STANDARD
TZOFFSETFROM:-0700
TZOFFSETTO:-0700
TZNAME:MST
DTSTART:20210101T000000
END:STANDARD
END:VTIMEZONE
BEGIN:VEVENT
DTSTART;TZID=America/Phoenix:20220602T190000
DTEND;TZID=America/Phoenix:20220602T200000
DTSTAMP:20260420T223741
CREATED:20220216T075006Z
LAST-MODIFIED:20220526T225041Z
UID:888-1654196400-1654200000@www.drgop.com
SUMMARY:First Thursday Monthly Club Meeting
DESCRIPTION:Don’t miss the June 2022 Dobson Ranch Republicans’ meeting! \n\nWhen: Thursday June 2nd | Doors open at 6:30pm; Meeting 7:00pm – 8:30pm\nWhere: Native Grill at Dobson & Guadalupe: Banquet Room\nCost: FREE + be generous to our servers!\nGuest Speaker Candidate(s):\n\nRachel Walden\, Republican candidate for Mesa School Board\nMary Ann Mendoza & Kathy Pearce\, Republican candidates for Arizona House (LD9)\nRob Scantlebury\, Republican candidate for Arizona State Senate (LD9)\n\n\n\nThrough October 2022\, these meetings will host Town Halls for candidates in 2022 elections. Candidate names will be added as dates are confirmed by the candidate and/or their campaign teams. \nBe prepared to show your voter ID card to the host. Republicans running for any elected office for our area are encouraged to attend all of our meetings. We also welcome Libertarian and Independent Conservatives running for non-partisan offices. You will be allowed to solicit petition signatures from when the doors open until the meeting starts at 7:00pm. Additionally\, you’ll be provided with 1-2 minutes for your candidate introduction pitch after our Guest Speaker presentations.  \n\nThe 2022 Redistricting effort changed voting District boundaries and restructured the numbering system. These changes place Dobson Ranch HOA voters in the new US Congressional District 4 (CD4) and AZ Legislative District 9 (LD9).
URL:https://www.drgop.com/event/first-thursday-monthly-club-meeting-5/
LOCATION:Native Grill – Dobson\, 1837 W. Guadalupe #122\, Mesa\, AZ\, 85202\, United States
CATEGORIES:Club Meeting
ATTACH;FMTTYPE=image/jpeg:https://www.drgop.com/wp-content/uploads/2021/03/Calendar-Sticky-Note-800x450-1.jpg
ORGANIZER;CN="Dobson Ranch Republicans Club":MAILTO:dobsonranchgop@gmail.com
END:VEVENT
END:VCALENDAR