BEGIN:VCALENDAR
VERSION:2.0
PRODID:-//Dobson Ranch Republicans - ECPv6.15.18//NONSGML v1.0//EN
CALSCALE:GREGORIAN
METHOD:PUBLISH
X-ORIGINAL-URL:https://www.drgop.com
X-WR-CALDESC:Events for Dobson Ranch Republicans
REFRESH-INTERVAL;VALUE=DURATION:PT1H
X-Robots-Tag:noindex
X-PUBLISHED-TTL:PT1H
BEGIN:VTIMEZONE
TZID:America/Phoenix
BEGIN:STANDARD
TZOFFSETFROM:-0700
TZOFFSETTO:-0700
TZNAME:MST
DTSTART:20210101T000000
END:STANDARD
END:VTIMEZONE
BEGIN:VEVENT
DTSTART;TZID=America/Phoenix:20220203T183000
DTEND;TZID=America/Phoenix:20220203T200000
DTSTAMP:20260421T164327
CREATED:20211014T012557Z
LAST-MODIFIED:20220203T215046Z
UID:758-1643913000-1643918400@www.drgop.com
SUMMARY:First Thursday Monthly Club Meeting
DESCRIPTION:Don’t miss the February 2022 Dobson Ranch Republicans’ meeting! \n\nWhen: Thursday February 3rd | Doors open at 6:30pm; Meeting 7pm – 8pm\nWhere: Native Grill at Dobson & Guadalupe: Banquet Room\nCost: FREE + be generous to our servers!\nFeatured Guest Speaker Candidate(s):\n\nShawnna Bolick\, Candidate for Secretary of State\nMatt Salmon\, Candidate for Governor\n\n\n\nThrough October 2022\, these meetings will host Town Halls for candidates in 2022 elections. Candidate names will be added as dates are confirmed by the candidate and/or their campaign teams. \nBe prepared to show your voter ID card to the host. Republicans running for any elected office for our area are encouraged to attend all of our meetings. We also welcome Libertarian and Independent Conservatives running for non-partisan offices. You will be allowed to solicit petition signatures and provide our members with a quick 1-2 minute candidate pitch prior our Guest Speaker(s) presentations. 
URL:https://www.drgop.com/event/first-thursday-monthly-club-meeting-2022-02/
LOCATION:Native Grill – Dobson\, 1837 W. Guadalupe #122\, Mesa\, AZ\, 85202\, United States
CATEGORIES:Club Meeting
ATTACH;FMTTYPE=image/jpeg:https://www.drgop.com/wp-content/uploads/2021/03/Calendar-Sticky-Note-800x450-1.jpg
ORGANIZER;CN="Dobson Ranch Republicans Club":MAILTO:dobsonranchgop@gmail.com
END:VEVENT
BEGIN:VEVENT
DTSTART;TZID=America/Phoenix:20220216T080000
DTEND;TZID=America/Phoenix:20220216T170000
DTSTAMP:20260421T164327
CREATED:20220216T072242Z
LAST-MODIFIED:20220216T073713Z
UID:879-1644998400-1645030800@www.drgop.com
SUMMARY:Precinct Committeeman RED WAVE POWER RALLY! 
DESCRIPTION:Precinct Committeeman RED WAVE POWER RALLY hosted by Jerone Davis For Congress & AZ Patriots. \n\nWhen: Wednesday\, February 16th\, 7pm-9pm\nWhere: 640 N Mesa Drive\, Mesa\, AZ 85201\nCost: Free
URL:https://www.drgop.com/event/precinct-committeeman-red-wave-power-rally/
LOCATION:640 N Mesa Drive\, 640 N Mesa Drive\, Mesa\, AZ\, 85210\, United States
CATEGORIES:Local Event
ATTACH;FMTTYPE=image/jpeg:https://www.drgop.com/wp-content/uploads/2022/02/Jerone-Davison-Feb16-2022.jpg
ORGANIZER;CN="Jerone Davison":MAILTO:info@jeroneforcongress.com
END:VEVENT
BEGIN:VEVENT
DTSTART;TZID=America/Phoenix:20220219T100000
DTEND;TZID=America/Phoenix:20220219T140000
DTSTAMP:20260421T164327
CREATED:20220115T105011Z
LAST-MODIFIED:20220115T105031Z
UID:859-1645264800-1645279200@www.drgop.com
SUMMARY:2ND AMENDMENT RALLY
DESCRIPTION:Vendors\, kid’s activities\, educational booths\, political speakers and food. Bring a lawn chair. Info at https://2ndamendmentrallyaz.com/ or email webmaster@2ndAmendmentRallyAZ.com
URL:https://www.drgop.com/event/2nd-amendment-rally/
LOCATION:State Capital\, 1700 W Washington\, Phoenix\, AZ\, United States
CATEGORIES:Local Event
ATTACH;FMTTYPE=image/png:https://www.drgop.com/wp-content/uploads/2022/01/Snag_d57da8e.png
END:VEVENT
END:VCALENDAR