BEGIN:VCALENDAR
VERSION:2.0
PRODID:-//Dobson Ranch Republicans - ECPv6.15.18//NONSGML v1.0//EN
CALSCALE:GREGORIAN
METHOD:PUBLISH
X-ORIGINAL-URL:https://www.drgop.com
X-WR-CALDESC:Events for Dobson Ranch Republicans
REFRESH-INTERVAL;VALUE=DURATION:PT1H
X-Robots-Tag:noindex
X-PUBLISHED-TTL:PT1H
BEGIN:VTIMEZONE
TZID:America/Phoenix
BEGIN:STANDARD
TZOFFSETFROM:-0700
TZOFFSETTO:-0700
TZNAME:MST
DTSTART:20200101T000000
END:STANDARD
END:VTIMEZONE
BEGIN:VEVENT
DTSTART;TZID=America/Phoenix:20211007T183000
DTEND;TZID=America/Phoenix:20211007T200000
DTSTAMP:20260422T123721
CREATED:20210809T015634Z
LAST-MODIFIED:20211020T091235Z
UID:662-1633631400-1633636800@www.drgop.com
SUMMARY:First Thursday Monthly Club Meeting
DESCRIPTION:Don’t miss the October 2021 Dobson Ranch Republicans’ meeting! \n\nWhen: Thursday October 7th\, 6:30pm – 8:00pm\nWhere: Native Grill at Dobson & Guadalupe (Banquet Room)\nCost: FREE + be generous to our servers!\nGuest Speaker Candidate(s):\n\nShiry Sapir\, Candidate for Arizona Superintendent of Public Instruction. Website: www.electshirysapir.com\n\n\n\nThrough October 2022\, these meetings will host Town Halls for candidates in 2022 elections. Candidate names will be added as dates are confirmed by the candidate and/or their campaign teams. \n  \nRepublicans running for any elected office are encouraged to attend all of our meetings. We also welcome Libertarian and Independent Conservatives running for non-partisan offices. You will be allowed to solicit petition signatures and provide our members with a quick 1-2 minute candidate pitch. Candidates should be prepared to show your voter ID card to the host in order to take advantage of this privilege.  \n 
URL:https://www.drgop.com/event/first-thursday-monthly-club-meeting-2021-10/
LOCATION:Native Grill – Dobson\, 1837 W. Guadalupe #122\, Mesa\, AZ\, 85202\, United States
CATEGORIES:Club Meeting
ATTACH;FMTTYPE=image/jpeg:https://www.drgop.com/wp-content/uploads/2021/03/Calendar-Sticky-Note-800x450-1.jpg
ORGANIZER;CN="Dobson Ranch Republicans Club":MAILTO:dobsonranchgop@gmail.com
END:VEVENT
BEGIN:VEVENT
DTSTART;TZID=America/Phoenix:20211014T183000
DTEND;TZID=America/Phoenix:20211014T203000
DTSTAMP:20260422T123721
CREATED:20210824T070902Z
LAST-MODIFIED:20210824T070902Z
UID:710-1634236200-1634243400@www.drgop.com
SUMMARY:All PCs Attend -- LD18 Republican District Monthly Meeting
DESCRIPTION:All current and potential Republican Precinct Committeemen in LD18 should attend the LD18 GOP District meetings on the 3rd Thursday ​of each month at Generations Church in Phoenix (Ahwatukee). PCs who cannot attend should notify Precinct Captain so that he/she can plan to update you on whatever you missed. \n\nWhen: October 14\, 6:30pm – 8:00pm\nWhere: Generations Church\, 11832 S Warner Elliot Loop\, Phoenix\, AZ 85044\nNote: Overflow parking is available at the adjacent school\nCost: FREE… Please consider purchasing a raffle ticket during the meeting
URL:https://www.drgop.com/event/all-pcs-attend-ld18-republican-district-monthly-meeting/
LOCATION:Generations Church\, 11832 S Warner Elliot Loop\, Phoenix\, AZ\, 85044\, United States
CATEGORIES:Republican Party Meeting
ATTACH;FMTTYPE=image/jpeg:https://www.drgop.com/wp-content/uploads/2021/08/LD18-GOP-Elephant.jpg
END:VEVENT
END:VCALENDAR