BEGIN:VCALENDAR
VERSION:2.0
PRODID:-//Dobson Ranch Republicans - ECPv6.15.18//NONSGML v1.0//EN
CALSCALE:GREGORIAN
METHOD:PUBLISH
X-ORIGINAL-URL:https://www.drgop.com
X-WR-CALDESC:Events for Dobson Ranch Republicans
REFRESH-INTERVAL;VALUE=DURATION:PT1H
X-Robots-Tag:noindex
X-PUBLISHED-TTL:PT1H
BEGIN:VTIMEZONE
TZID:America/Phoenix
BEGIN:STANDARD
TZOFFSETFROM:-0700
TZOFFSETTO:-0700
TZNAME:MST
DTSTART:20200101T000000
END:STANDARD
END:VTIMEZONE
BEGIN:VEVENT
DTSTART;TZID=America/Phoenix:20210902T183000
DTEND;TZID=America/Phoenix:20210902T200000
DTSTAMP:20260422T175317
CREATED:20210809T015135Z
LAST-MODIFIED:20210831T234851Z
UID:661-1630607400-1630612800@www.drgop.com
SUMMARY:First Thursday Monthly Club Meeting
DESCRIPTION:Don’t miss the September 2021 Dobson Ranch Republicans’ meeting! \n\nWhen: Thursday September 2nd\, 6:30pm – 8:00pm\nWhere: Native Grill at Dobson & Guadalupe (Banquet Room)\nCost: FREE + be generous to our servers!\nGuest Speaker Candidate: US Senate Candidate General Mick McGuire\n\n\nThrough October 2022\, these meetings will host Town Halls for candidates in 2022 elections. Candidate names will be added as dates are confirmed by the candidate and/or their campaign teams. Candidates requesting a speaker engagement should Email Us. \nRepublicans running for any elected office are encouraged to attend all of our meetings. You will be allowed to solicit petition signatures and provide our members with a quick 1-2 minute candidate pitch. Candidates should be prepared to show their Arizona Voter ID card to the host in order to take advantage of this privilege.  \n 
URL:https://www.drgop.com/event/first-thursday-monthly-club-meeting-2021-09/
LOCATION:Native Grill – Dobson\, 1837 W. Guadalupe #122\, Mesa\, AZ\, 85202\, United States
CATEGORIES:Club Meeting
ATTACH;FMTTYPE=image/jpeg:https://www.drgop.com/wp-content/uploads/2021/03/Calendar-Sticky-Note-800x450-1.jpg
ORGANIZER;CN="Dobson Ranch Republicans Club":MAILTO:dobsonranchgop@gmail.com
END:VEVENT
BEGIN:VEVENT
DTSTART;TZID=America/Phoenix:20210903T173000
DTEND;TZID=America/Phoenix:20210903T190000
DTSTAMP:20260422T175317
CREATED:20210901T000317Z
LAST-MODIFIED:20210901T000432Z
UID:740-1630690200-1630695600@www.drgop.com
SUMMARY:Rally: Stop the Vaccine Mandate
DESCRIPTION:Silent no More\, “Stop the Vaccine Mandate Rally” will begin at 5:30 pm.\, Fri.\, Sept 3 in front of the Gilbert Mercy Hospital\, south of the Loop202 on Val Vista Road in Gilbert\, AZ. Bring your signs and your passion\, for more info\, contact Tony Cabanillas at azpcld12@gmail.com
URL:https://www.drgop.com/event/rally-stop-the-vaccine-mandate/
LOCATION:Gilbert Mercy Hospital\, 3555 S Val Vista Dr\, Gilbert\, AZ\, 85297\, United States
CATEGORIES:Local Event
ATTACH;FMTTYPE=image/jpeg:https://www.drgop.com/wp-content/uploads/2021/08/Rally.jpg
ORGANIZER;CN="Tony Cabanillas":MAILTO:azpcld12@gmail.com
END:VEVENT
BEGIN:VEVENT
DTSTART;TZID=America/Phoenix:20210909T183000
DTEND;TZID=America/Phoenix:20210909T203000
DTSTAMP:20260422T175317
CREATED:20210810T192709Z
LAST-MODIFIED:20210824T070932Z
UID:681-1631212200-1631219400@www.drgop.com
SUMMARY:AZ Legislative District 18 (LD18) Republican Committee Monthly Meeting
DESCRIPTION:AZ Legislative District 18 (LD18) Precinct Committeemen should attend the LD18 Republican meetings held the 2nd Thursday of each month. ​If you have considered becoming a PC and want to feel more connected to the Party\, then you are cordially invited to attend as a guest of the Precinct Committeemen within the Dobson Ranch HOA! You can view the AZ LD18 Precinct Committeeman status by precinct on the LD18 organizational website here: https://ld18gop.com/ld18-pc-data/.  \n\n\n\nWhen: Thursday\, September 9th\, 6:30pm – 8:30pm\nWhere: Generations Church\, 11832 S Warner Elliot Loop\, Phoenix\, AZ 85044\nWhat: Arizona Legislative District 18 (LD18); Agendas include operational updates\, information sharing about current events\, candidates & guest speakers\, and presentations on items of interest to Republicans. \nCost: FREE\n\nThe AZ Legislative District 18 (LD18) spans areas of four cities in Maricopa County: \n\nAll of Ahwatukee\nWest Chandler\nSouth Tempe\nSouthern area of West Mesa\, including the Dobson Ranch community
URL:https://www.drgop.com/event/az-legislative-district-18-ld18-republican-committee-monthly-meeting-2/
LOCATION:Generations Church\, 11832 S Warner Elliot Loop\, Phoenix\, AZ\, 85044\, United States
CATEGORIES:Republican Party Meeting
ATTACH;FMTTYPE=image/jpeg:https://www.drgop.com/wp-content/uploads/2021/08/LD18-GOP-Elephant.jpg
END:VEVENT
BEGIN:VEVENT
DTSTART;TZID=America/Phoenix:20210918T170000
DTEND;TZID=America/Phoenix:20210918T210000
DTSTAMP:20260422T175317
CREATED:20210824T071752Z
LAST-MODIFIED:20210824T071752Z
UID:718-1631984400-1631998800@www.drgop.com
SUMMARY:Constitution Celebration 2021
DESCRIPTION:Arizona Freedom & Family\, in partnership with Maricopa County Republicans\, is hosting a Constitution Celebration 2021 Rally on Saturday September 18th. This family-friendly event boasts workshops\, food trucks\, kids games\, and information booths focused on Constitutional rights\, how to protect them\, how to advocate for them\, and related resources available to voters! \n\n\n\nWhen: Saturday September 18th\, 5pm to 9pm\nWhere: Queen Creek Botanical Gardens\, 25002 S. 206th Street\, Queen Creek\, AZ 85142 \nCost: $5 Individuals / $20 Families (purchase tickets here)\n \n\nVisit the AZ Freedom & Family Rally website for more information\, including election candidate\, vendor\, and sponsorship sign-up forms. \nVolunteers Needed: Volunteer here on Sign up Genius!
URL:https://www.drgop.com/event/constitution-celebration-2021/
LOCATION:Queen Creek Botanical Gardens\, 25002 S 206th Street\, Queen Creek\, AZ\, 85142\, United States
CATEGORIES:Local Event
END:VEVENT
BEGIN:VEVENT
DTSTART;TZID=America/Phoenix:20210925T073000
DTEND;TZID=America/Phoenix:20210925T150000
DTSTAMP:20260422T175317
CREATED:20210824T072128Z
LAST-MODIFIED:20210824T072128Z
UID:723-1632555000-1632582000@www.drgop.com
SUMMARY:Golf Tournament Benefiting Knight of Columbus Charities & Phoenix Police Foundation
DESCRIPTION:The Knights of Columbus are hosting their 30th annual Joe Hasulak Memorial Golf Tournament on Saturday September 25\, 2021 to benefit the Knight’s Charities and Phoenix Police Foundation (both are 501(3)C charities). The event is being held at the Foothills Golf Course in Ahwatukee and registration includes everything you need and a few extras! A few Sponsorships are still available as well. See the attached event flyers for more details.\n\n\n\nWhen: Friday September 25th\, 7am Registration / 7:30am Shotgun Start ***Registration closes on Friday September 10th***\nWhere: Foothills Golf Course\, 2201 E Clubhouse Drive\, Phoenix\, AZ 85048\nCost: $85/player and you may register as an individual or foursome
URL:https://www.drgop.com/event/golf-tournament-benefiting-knight-of-columbus-charities-phoenix-police-foundation/
LOCATION:Foothills Golf Club Clubhouse\, 2201 E Clubhouse Drive\, Phoenix\, AZ\, 85048\, United States
CATEGORIES:Local Event
END:VEVENT
END:VCALENDAR