BEGIN:VCALENDAR
VERSION:2.0
PRODID:-//Dobson Ranch Republicans - ECPv6.15.18//NONSGML v1.0//EN
CALSCALE:GREGORIAN
METHOD:PUBLISH
X-ORIGINAL-URL:https://www.drgop.com
X-WR-CALDESC:Events for Dobson Ranch Republicans
REFRESH-INTERVAL;VALUE=DURATION:PT1H
X-Robots-Tag:noindex
X-PUBLISHED-TTL:PT1H
BEGIN:VTIMEZONE
TZID:America/Phoenix
BEGIN:STANDARD
TZOFFSETFROM:-0700
TZOFFSETTO:-0700
TZNAME:MST
DTSTART:20200101T000000
END:STANDARD
END:VTIMEZONE
BEGIN:VEVENT
DTSTART;TZID=America/Phoenix:20210805T183000
DTEND;TZID=America/Phoenix:20210805T200000
DTSTAMP:20260422T221807
CREATED:20210728T095316Z
LAST-MODIFIED:20210728T095316Z
UID:614-1628188200-1628193600@www.drgop.com
SUMMARY:First Thursday Monthly Club Meeting
DESCRIPTION:Don’t miss the August 2021 Dobson Ranch Republicans’ meeting with special guest JIM LAMON\, Republican Candidate for US Senate!\n\n\n\n\nWhen: Thursday August 5th\, 6:30pm – 8:00pm\nWhere: Native Grill at Dobson & Guadalupe (Banquet Room)\nCost: FREE + be generous to our servers!
URL:https://www.drgop.com/event/first-thursday-monthly-club-meeting-3/
LOCATION:Native Grill – Dobson\, 1837 W. Guadalupe #122\, Mesa\, AZ\, 85202\, United States
CATEGORIES:Club Meeting
ATTACH;FMTTYPE=image/jpeg:https://www.drgop.com/wp-content/uploads/2021/03/Calendar-Sticky-Note-800x450-1.jpg
END:VEVENT
BEGIN:VEVENT
DTSTART;TZID=America/Phoenix:20210812T180000
DTEND;TZID=America/Phoenix:20210812T190000
DTSTAMP:20260422T221807
CREATED:20210728T101643Z
LAST-MODIFIED:20210728T101819Z
UID:622-1628791200-1628794800@www.drgop.com
SUMMARY:Mesa Redistricting Public Hearing
DESCRIPTION:Every ten years Mesa is required to redraw its City Council districts based on the latest U.S. Census data in a process called redistricting. The redistricting process helps ensure Mesa residents receive fair and equitable representation in our local government by equalizing the number of residents in each district. Because local residents know their communities best\, the redistricting process offers numerous opportunities for public participation. \nThe current Mesa Council District Map can be found here: https://opengis.mesaaz.gov/apps/explore-mesa/explore. \nVisit the City of Mesa’s Redistricting website for information on: \n\nPublic meeting details.\nHow to submit your map idea.\nSubmit a Community of Interest Form.\nEmail feedback and comments to the redistricting commission.\n\n 
URL:https://www.drgop.com/event/redistricting-public-hearing/
LOCATION:Webster Recreation Center\, Webster Recreation Center\, Mesa\, AZ\, United States
CATEGORIES:Local Event
ATTACH;FMTTYPE=image/png:https://www.drgop.com/wp-content/uploads/2021/07/Mesa-Redistricting.png
END:VEVENT
BEGIN:VEVENT
DTSTART;TZID=America/Phoenix:20210812T183000
DTEND;TZID=America/Phoenix:20210812T203000
DTSTAMP:20260422T221807
CREATED:20210810T192522Z
LAST-MODIFIED:20210824T183325Z
UID:672-1628793000-1628800200@www.drgop.com
SUMMARY:AZ Legislative District 18 (LD18) Republican Committee Monthly Meeting
DESCRIPTION:AZ Legislative District 18 (LD18) Precinct Committeemen should attend the LD18 Republican meetings held the 2nd Thursday of each month. ​If you have considered becoming a PC and want to feel more connected to the Party\, then you are cordially invited to attend as a guest of the Precinct Committeemen within the Dobson Ranch HOA! You can view the AZ LD18 Precinct Committeeman status by precinct on the LD18 organizational website here: https://ld18gop.com/ld18-pc-data/.  \n\n\n\nWhen: Thursday\, August 12\, 6:30pm – 8:30pm\nWhere: Generations Church\, 11832 S Warner Elliot Loop\, Phoenix\, AZ 85044\nWhat: Arizona Legislative District 18 (LD18); Agendas include operational updates\, information sharing about current events\, candidates & guest speakers\, and presentations on items of interest to Republicans. \nCost: FREE\n\nThe AZ Legislative District 18 (LD18) spans areas of four cities in Maricopa County: \n\nAll of Ahwatukee\nWest Chandler\nSouth Tempe\nSouthern area of West Mesa\, including the Dobson Ranch community
URL:https://www.drgop.com/event/az-legislative-district-18-ld18-republican-committee-monthly-meeting/
LOCATION:Generations Church\, 11832 S Warner Elliot Loop\, Phoenix\, AZ\, 85044\, United States
CATEGORIES:Republican Party Meeting
ATTACH;FMTTYPE=image/jpeg:https://www.drgop.com/wp-content/uploads/2021/08/LD18-GOP-Elephant.jpg
END:VEVENT
BEGIN:VEVENT
DTSTART;TZID=America/Phoenix:20210814T100000
DTEND;TZID=America/Phoenix:20210814T110000
DTSTAMP:20260422T221807
CREATED:20210728T102033Z
LAST-MODIFIED:20210728T102033Z
UID:629-1628935200-1628938800@www.drgop.com
SUMMARY:Mesa Redistricting Public Hearing
DESCRIPTION:Every ten years Mesa is required to redraw its City Council districts based on the latest U.S. Census data in a process called redistricting. The redistricting process helps ensure Mesa residents receive fair and equitable representation in our local government by equalizing the number of residents in each district. Because local residents know their communities best\, the redistricting process offers numerous opportunities for public participation. \nThe current Mesa Council District Map can be found here: https://opengis.mesaaz.gov/apps/explore-mesa/explore. \nVisit the City of Mesa’s Redistricting website for information on: \n\nPublic meeting details.\nHow to submit your map idea.\nSubmit a Community of Interest Form.\nEmail feedback and comments to the redistricting commission.\n\n 
URL:https://www.drgop.com/event/mesa-redistricting-public-hearing/
LOCATION:Fire Station 218 Community Room\, 845 N. Alma School Rd.\, Mesa\, AZ\, United States
CATEGORIES:Local Event
ATTACH;FMTTYPE=image/png:https://www.drgop.com/wp-content/uploads/2021/07/Mesa-Redistricting.png
END:VEVENT
BEGIN:VEVENT
DTSTART;TZID=America/Phoenix:20210817T180000
DTEND;TZID=America/Phoenix:20210817T190000
DTSTAMP:20260422T221807
CREATED:20210728T102218Z
LAST-MODIFIED:20210728T102218Z
UID:632-1629223200-1629226800@www.drgop.com
SUMMARY:Mesa Redistricting Public Hearing
DESCRIPTION:Every ten years Mesa is required to redraw its City Council districts based on the latest U.S. Census data in a process called redistricting. The redistricting process helps ensure Mesa residents receive fair and equitable representation in our local government by equalizing the number of residents in each district. Because local residents know their communities best\, the redistricting process offers numerous opportunities for public participation. \nThe current Mesa Council District Map can be found here: https://opengis.mesaaz.gov/apps/explore-mesa/explore. \nVisit the City of Mesa’s Redistricting website for information on: \n\nPublic meeting details.\nHow to submit your map idea.\nSubmit a Community of Interest Form.\nEmail feedback and comments to the redistricting commission.\n\n 
URL:https://www.drgop.com/event/mesa-redistricting-public-hearing-2/
LOCATION:Eagles Community Center\, 828 E. Broadway Rd.\, Mesa\, AZ\, United States
CATEGORIES:Local Event
ATTACH;FMTTYPE=image/png:https://www.drgop.com/wp-content/uploads/2021/07/Mesa-Redistricting.png
END:VEVENT
BEGIN:VEVENT
DTSTART;TZID=America/Phoenix:20210818T120000
DTEND;TZID=America/Phoenix:20210818T130000
DTSTAMP:20260422T221807
CREATED:20210728T102422Z
LAST-MODIFIED:20210728T102422Z
UID:635-1629288000-1629291600@www.drgop.com
SUMMARY:Mesa Redistricting Public Hearing
DESCRIPTION:Every ten years Mesa is required to redraw its City Council districts based on the latest U.S. Census data in a process called redistricting. The redistricting process helps ensure Mesa residents receive fair and equitable representation in our local government by equalizing the number of residents in each district. Because local residents know their communities best\, the redistricting process offers numerous opportunities for public participation. \nThe current Mesa Council District Map can be found here: https://opengis.mesaaz.gov/apps/explore-mesa/explore. \nVisit the City of Mesa’s Redistricting website for information on: \n\nPublic meeting details.\nHow to submit your map idea.\nSubmit a Community of Interest Form.\nEmail feedback and comments to the redistricting commission.\n\n 
URL:https://www.drgop.com/event/mesa-redistricting-public-hearing-3/
LOCATION:Red Mountain Library\, 635 N. Power Rd.\, mesa\, AZ\, United States
CATEGORIES:Local Event
ATTACH;FMTTYPE=image/png:https://www.drgop.com/wp-content/uploads/2021/07/Mesa-Redistricting.png
END:VEVENT
BEGIN:VEVENT
DTSTART;TZID=America/Phoenix:20210825T180000
DTEND;TZID=America/Phoenix:20210825T190000
DTSTAMP:20260422T221807
CREATED:20210728T162329Z
LAST-MODIFIED:20210728T162756Z
UID:641-1629914400-1629918000@www.drgop.com
SUMMARY:Mesa Redistricting Public Hearing (virtual)
DESCRIPTION:Every ten years Mesa is required to redraw its City Council districts based on the latest U.S. Census data in a process called redistricting. The redistricting process helps ensure Mesa residents receive fair and equitable representation in our local government by equalizing the number of residents in each district. Because local residents know their communities best\, the redistricting process offers numerous opportunities for public participation. \nThe current Mesa Council District Map can be found here: https://opengis.mesaaz.gov/apps/explore-mesa/explore. \nVisit the City of Mesa’s Redistricting website for information on: \n\nPublic meeting details.\nHow to submit your map idea.\nSubmit a Community of Interest Form.\nEmail feedback and comments to the redistricting commission.
URL:https://www.drgop.com/event/mesa-redistricting-public-hearing-virtual/
LOCATION:Zoom\, United States
CATEGORIES:Local Event
ATTACH;FMTTYPE=image/png:https://www.drgop.com/wp-content/uploads/2021/07/Mesa-Redistricting.png
END:VEVENT
BEGIN:VEVENT
DTSTART;TZID=America/Phoenix:20210826T180000
DTEND;TZID=America/Phoenix:20210826T190000
DTSTAMP:20260422T221807
CREATED:20210728T162703Z
LAST-MODIFIED:20210728T162823Z
UID:643-1630000800-1630004400@www.drgop.com
SUMMARY:Mesa Redistricting Public Hearing
DESCRIPTION:Every ten years Mesa is required to redraw its City Council districts based on the latest U.S. Census data in a process called redistricting. The redistricting process helps ensure Mesa residents receive fair and equitable representation in our local government by equalizing the number of residents in each district. Because local residents know their communities best\, the redistricting process offers numerous opportunities for public participation. \nThe current Mesa Council District Map can be found here: https://opengis.mesaaz.gov/apps/explore-mesa/explore. \nVisit the City of Mesa’s Redistricting website for information on: \n\nPublic meeting details.\nHow to submit your map idea.\nSubmit a Community of Interest Form.\nEmail feedback and comments to the redistricting commission.
URL:https://www.drgop.com/event/mesa-redistricting-public-hearing-4/
LOCATION:Cadence Community Room\, 9760 E. Cadence Pkwy\, Mesa\, AZ\, United States
CATEGORIES:Local Event
ATTACH;FMTTYPE=image/png:https://www.drgop.com/wp-content/uploads/2021/07/Mesa-Redistricting.png
END:VEVENT
BEGIN:VEVENT
DTSTART;TZID=America/Phoenix:20210827T163000
DTEND;TZID=America/Phoenix:20210827T183000
DTSTAMP:20260422T221807
CREATED:20210824T071408Z
LAST-MODIFIED:20210824T071816Z
UID:713-1630081800-1630089000@www.drgop.com
SUMMARY:Imagine 3D Mini Golf w/TARS
DESCRIPTION:Looking for a fun and FREE activity this Friday? Kids of all ages are invited to join the East Valley TeenAge Republicans (EV-TARS) club at Imagine 3D Mini Golf from 4:30pm-6:30pm!! See the attached for more info.\n\n\n\n\n\nWhen: Friday August 27th\, 4:30pm – 6:30pm\nWhere: Imagine 3D Mini Golf at 785 W Warner Rd Suite A107 in Gilbert\nCost: FREE!\n\nEV TARS Flyer 27 Aug Activity – 3D Mini Golf \n 
URL:https://www.drgop.com/event/imagine-3d-mini-golf-w-tars/
LOCATION:Imagine 3D Mini Golf\, 785 W Warner Rd Suite A107\, Gilbert\, AZ\, United States
CATEGORIES:Local Event
END:VEVENT
BEGIN:VEVENT
DTSTART;TZID=America/Phoenix:20210828T100000
DTEND;TZID=America/Phoenix:20210828T110000
DTSTAMP:20260422T221807
CREATED:20210728T163104Z
LAST-MODIFIED:20210728T163104Z
UID:646-1630144800-1630148400@www.drgop.com
SUMMARY:Mesa Redistricting Public Hearing
DESCRIPTION:Every ten years Mesa is required to redraw its City Council districts based on the latest U.S. Census data in a process called redistricting. The redistricting process helps ensure Mesa residents receive fair and equitable representation in our local government by equalizing the number of residents in each district. Because local residents know their communities best\, the redistricting process offers numerous opportunities for public participation. \nThe current Mesa Council District Map can be found here: https://opengis.mesaaz.gov/apps/explore-mesa/explore. \nVisit the City of Mesa’s Redistricting website for information on: \n\nPublic meeting details.\nHow to submit your map idea.\nSubmit a Community of Interest Form.\nEmail feedback and comments to the redistricting commission.
URL:https://www.drgop.com/event/mesa-redistricting-public-hearing-5/
LOCATION:Madison Elementary\, 849 S. Sunnyvale\, Mesa\, AZ\, United States
CATEGORIES:Local Event
ATTACH;FMTTYPE=image/png:https://www.drgop.com/wp-content/uploads/2021/07/Mesa-Redistricting.png
END:VEVENT
END:VCALENDAR