BEGIN:VCALENDAR
VERSION:2.0
PRODID:-//Dobson Ranch Republicans - ECPv6.15.18//NONSGML v1.0//EN
CALSCALE:GREGORIAN
METHOD:PUBLISH
X-ORIGINAL-URL:https://www.drgop.com
X-WR-CALDESC:Events for Dobson Ranch Republicans
REFRESH-INTERVAL;VALUE=DURATION:PT1H
X-Robots-Tag:noindex
X-PUBLISHED-TTL:PT1H
BEGIN:VTIMEZONE
TZID:America/Phoenix
BEGIN:STANDARD
TZOFFSETFROM:-0700
TZOFFSETTO:-0700
TZNAME:MST
DTSTART:20200101T000000
END:STANDARD
END:VTIMEZONE
BEGIN:VEVENT
DTSTART;TZID=America/Phoenix:20210603T183000
DTEND;TZID=America/Phoenix:20210603T200000
DTSTAMP:20260423T065450
CREATED:20210602T232208Z
LAST-MODIFIED:20210602T232208Z
UID:601-1622745000-1622750400@www.drgop.com
SUMMARY:First Thursday Monthly Club Meeting
DESCRIPTION:
URL:https://www.drgop.com/event/first-thursday-monthly-club-meeting-2/
LOCATION:Native Grill – Dobson\, 1837 W. Guadalupe #122\, Mesa\, AZ\, 85202\, United States
CATEGORIES:Club Meeting
ATTACH;FMTTYPE=image/jpeg:https://www.drgop.com/wp-content/uploads/2021/03/Calendar-Sticky-Note-800x450-1.jpg
END:VEVENT
END:VCALENDAR