BEGIN:VCALENDAR
VERSION:2.0
PRODID:-//Dobson Ranch Republicans - ECPv6.15.18//NONSGML v1.0//EN
CALSCALE:GREGORIAN
METHOD:PUBLISH
X-ORIGINAL-URL:https://www.drgop.com
X-WR-CALDESC:Events for Dobson Ranch Republicans
REFRESH-INTERVAL;VALUE=DURATION:PT1H
X-Robots-Tag:noindex
X-PUBLISHED-TTL:PT1H
BEGIN:VTIMEZONE
TZID:America/Phoenix
BEGIN:STANDARD
TZOFFSETFROM:-0700
TZOFFSETTO:-0700
TZNAME:MST
DTSTART:20200101T000000
END:STANDARD
END:VTIMEZONE
BEGIN:VEVENT
DTSTART;TZID=America/Phoenix:20210506T183000
DTEND;TZID=America/Phoenix:20210506T200000
DTSTAMP:20260423T115422
CREATED:20210408T211237Z
LAST-MODIFIED:20210408T211315Z
UID:529-1620325800-1620331200@www.drgop.com
SUMMARY:First Thursday Monthly Club Meeting
DESCRIPTION:We’re working on the agenda for our May meeting and will post details when it’s ready. If you have a request\, let us know.
URL:https://www.drgop.com/event/first-thursday-monthly-club-meeting-2021-05/
LOCATION:Native Grill – Dobson\, 1837 W. Guadalupe #122\, Mesa\, AZ\, 85202\, United States
CATEGORIES:Club Meeting
ATTACH;FMTTYPE=image/jpeg:https://www.drgop.com/wp-content/uploads/2021/03/Calendar-Sticky-Note-800x450-1.jpg
END:VEVENT
BEGIN:VEVENT
DTSTART;VALUE=DATE:20210515
DTEND;VALUE=DATE:20210516
DTSTAMP:20260423T115422
CREATED:20210408T185412Z
LAST-MODIFIED:20210408T185412Z
UID:523-1621036800-1621123199@www.drgop.com
SUMMARY:Tax Day (moved from April 15 to May 15)
DESCRIPTION:Tax Day for Individuals was postponed from April 15th to May 15th per IRS IR-2021-59\, March 17\, 2021.
URL:https://www.drgop.com/event/tax-day-moved-from-april-15-to-may-15/
LOCATION:AZ
CATEGORIES:National Event
ATTACH;FMTTYPE=image/jpeg:https://www.drgop.com/wp-content/uploads/2021/02/calculator-financial-4560047_640.jpg
END:VEVENT
BEGIN:VEVENT
DTSTART;VALUE=DATE:20210517
DTEND;VALUE=DATE:20210518
DTSTAMP:20260423T115422
CREATED:20210228T093731Z
LAST-MODIFIED:20210228T093731Z
UID:421-1621209600-1621295999@www.drgop.com
SUMMARY:Shavuot
DESCRIPTION:
URL:https://www.drgop.com/event/shavuot/
LOCATION:AZ
CATEGORIES:Holiday/Observance
ATTACH;FMTTYPE=image/png:https://www.drgop.com/wp-content/uploads/2021/02/star-of-david-5866176_640.png
END:VEVENT
BEGIN:VEVENT
DTSTART;VALUE=DATE:20210517
DTEND;VALUE=DATE:20210518
DTSTAMP:20260423T115422
CREATED:20210228T093927Z
LAST-MODIFIED:20210228T093928Z
UID:424-1621209600-1621295999@www.drgop.com
SUMMARY:Pentecost
DESCRIPTION:
URL:https://www.drgop.com/event/pentecost/
LOCATION:AZ
CATEGORIES:Holiday/Observance
ATTACH;FMTTYPE=image/jpeg:https://www.drgop.com/wp-content/uploads/2021/02/Pentecost-Dove-faith-4664706_640.jpg
END:VEVENT
BEGIN:VEVENT
DTSTART;VALUE=DATE:20210531
DTEND;VALUE=DATE:20210601
DTSTAMP:20260423T115422
CREATED:20210228T095034Z
LAST-MODIFIED:20210228T095034Z
UID:427-1622419200-1622505599@www.drgop.com
SUMMARY:Memorial Day
DESCRIPTION:
URL:https://www.drgop.com/event/memorial-day/
LOCATION:AZ
CATEGORIES:Holiday/Observance
ATTACH;FMTTYPE=image/jpeg:https://www.drgop.com/wp-content/uploads/2021/02/memorial-2756194_640.jpg
END:VEVENT
END:VCALENDAR