BEGIN:VCALENDAR
VERSION:2.0
PRODID:-//Dobson Ranch Republicans - ECPv6.15.18//NONSGML v1.0//EN
CALSCALE:GREGORIAN
METHOD:PUBLISH
X-ORIGINAL-URL:https://www.drgop.com
X-WR-CALDESC:Events for Dobson Ranch Republicans
REFRESH-INTERVAL;VALUE=DURATION:PT1H
X-Robots-Tag:noindex
X-PUBLISHED-TTL:PT1H
BEGIN:VTIMEZONE
TZID:America/Phoenix
BEGIN:STANDARD
TZOFFSETFROM:-0700
TZOFFSETTO:-0700
TZNAME:MST
DTSTART:20200101T000000
END:STANDARD
END:VTIMEZONE
BEGIN:VEVENT
DTSTART;VALUE=DATE:20210328
DTEND;VALUE=DATE:20210405
DTSTAMP:20260423T163837
CREATED:20210228T091125Z
LAST-MODIFIED:20210228T091125Z
UID:400-1616889600-1617580799@www.drgop.com
SUMMARY:Passover
DESCRIPTION:
URL:https://www.drgop.com/event/passover/
LOCATION:AZ
CATEGORIES:Holiday/Observance
ATTACH;FMTTYPE=image/png:https://www.drgop.com/wp-content/uploads/2021/02/passover-5020045_640.png
END:VEVENT
BEGIN:VEVENT
DTSTART;TZID=America/Phoenix:20210401T094500
DTEND;TZID=America/Phoenix:20210401T110000
DTSTAMP:20260423T163837
CREATED:20210319T001228Z
LAST-MODIFIED:20210319T020700Z
UID:482-1617270300-1617274800@www.drgop.com
SUMMARY:Virtual Debate: Should the Electoral College be Abolished?
DESCRIPTION:Join the Constitutional Studies at Notre Dame for this Constitutional Studies Debate on the electoral college:\n“Resolved: The Electoral College Should be Abolished“!\n\n\nThe event is free and open to the public!\n\nEvent’s Zoom link: notredame.zoom.us/j/95877407086\nEvent’s Facebook link: https://www.facebook.com/events/134989835197059/\n\n\nMore information about the speakers and debate details are here: http://constudies.nd.edu/…/resolved-the-electordal…/\n\n\nRepresenting the affirmative is Jesse Wegman of the NYT Editorial Board.\nArguing for the negative is Trent England\, Oklahoma Council of Public Affairs.
URL:https://www.drgop.com/event/virtual-debate-should-the-electoral-college-be-abolished/
LOCATION:Zoom\, United States
ATTACH;FMTTYPE=image/jpeg:https://www.drgop.com/wp-content/uploads/2021/03/157656994_3727249870700356_1494324595051432950_o1.jpg
END:VEVENT
BEGIN:VEVENT
DTSTART;TZID=America/Phoenix:20210401T183000
DTEND;TZID=America/Phoenix:20210401T203000
DTSTAMP:20260423T163837
CREATED:20210320T065856Z
LAST-MODIFIED:20210325T224211Z
UID:487-1617301800-1617309000@www.drgop.com
SUMMARY:First Thursday Monthly Club Meeting
DESCRIPTION:Our April 1st monthly Dobson Ranch Republican Club meeting is a MUST ATTEND!\nWe’ll be meeting in-person at Native Grill (Dobson & Guadalupe) with guest speaker Trent England\, from Save Our States. \nVisit the Save Our States website to see what they’re trying to stop. Also watch the project’s documentary here or here\, which tells the story of the Electoral College and why it matters.  \nThe meeting will begin at 7:00pm and doors open at 6:30pm for business networking (bring plenty of business cards!).\nNo host. Please tip your servers well.
URL:https://www.drgop.com/event/first-thursday-monthly-club-meeting-2021-04/
LOCATION:Native Grill – Dobson\, 1837 W. Guadalupe #122\, Mesa\, AZ\, 85202\, United States
CATEGORIES:Club Meeting
ATTACH;FMTTYPE=image/jpeg:https://www.drgop.com/wp-content/uploads/2021/03/Calendar-Sticky-Note-800x450-1.jpg
END:VEVENT
BEGIN:VEVENT
DTSTART;VALUE=DATE:20210402
DTEND;VALUE=DATE:20210403
DTSTAMP:20260423T163837
CREATED:20210228T092018Z
LAST-MODIFIED:20210228T092018Z
UID:403-1617321600-1617407999@www.drgop.com
SUMMARY:Good Friday
DESCRIPTION:
URL:https://www.drgop.com/event/good-friday/
LOCATION:AZ
CATEGORIES:Holiday/Observance
ATTACH;FMTTYPE=image/jpeg:https://www.drgop.com/wp-content/uploads/2021/02/Good-Friday-crucifixion-church-535155_640.jpg
END:VEVENT
BEGIN:VEVENT
DTSTART;VALUE=DATE:20210404
DTEND;VALUE=DATE:20210405
DTSTAMP:20260423T163837
CREATED:20210228T092252Z
LAST-MODIFIED:20210228T092252Z
UID:406-1617494400-1617580799@www.drgop.com
SUMMARY:Easter Sunday
DESCRIPTION:
URL:https://www.drgop.com/event/easter-sunday/
LOCATION:AZ
CATEGORIES:Holiday/Observance
ATTACH;FMTTYPE=image/jpeg:https://www.drgop.com/wp-content/uploads/2021/02/resurrection.jpg
END:VEVENT
BEGIN:VEVENT
DTSTART;TZID=America/Phoenix:20210408T080000
DTEND;TZID=America/Phoenix:20210408T170000
DTSTAMP:20260423T163837
CREATED:20210228T092611Z
LAST-MODIFIED:20210408T191716Z
UID:409-1617868800-1617901200@www.drgop.com
SUMMARY:Yom HaShoah
DESCRIPTION:
URL:https://www.drgop.com/event/yom-hashoah/
LOCATION:AZ
CATEGORIES:Holiday/Observance
ATTACH;FMTTYPE=image/jpeg:https://www.drgop.com/wp-content/uploads/2021/02/Holocaust-monument-1106015_640.jpg
END:VEVENT
BEGIN:VEVENT
DTSTART;TZID=America/Phoenix:20210408T183000
DTEND;TZID=America/Phoenix:20210408T200000
DTSTAMP:20260423T163837
CREATED:20210408T191507Z
LAST-MODIFIED:20210408T191513Z
UID:525-1617906600-1617912000@www.drgop.com
SUMMARY:LD18 GOP PC April 2021 Meeting - PCs Only
DESCRIPTION:The April 2021 Republican Precinct Committeemen (PC) for AZ Legislative District 18 (LD18) will be held as a Potluck at a private residence. \nIf you’re a PC in LD18 and didn’t receive directions\,  send an email to LD18 or contact DRGOP. \nAspiring PCs should visit our becoming a Precinct Committeeman page.
URL:https://www.drgop.com/event/ld18-gop-pc-april-2021-meeting/
LOCATION:AZ
CATEGORIES:Local Event
ATTACH;FMTTYPE=image/jpeg:https://www.drgop.com/wp-content/uploads/2021/04/buffet-974742_640.jpg
END:VEVENT
BEGIN:VEVENT
DTSTART;VALUE=DATE:20210413
DTEND;VALUE=DATE:20210414
DTSTAMP:20260423T163837
CREATED:20210228T092759Z
LAST-MODIFIED:20210228T092759Z
UID:412-1618272000-1618358399@www.drgop.com
SUMMARY:Thomas Jefferson's Birthday
DESCRIPTION:
URL:https://www.drgop.com/event/thomas-jeffersons-birthday/
LOCATION:AZ
CATEGORIES:Holiday/Observance
ATTACH;FMTTYPE=image/png:https://www.drgop.com/wp-content/uploads/2021/02/thomas-jefferson-153568_640.png
END:VEVENT
BEGIN:VEVENT
DTSTART;VALUE=DATE:20210415
DTEND;VALUE=DATE:20210416
DTSTAMP:20260423T163837
CREATED:20210228T092956Z
LAST-MODIFIED:20210228T092956Z
UID:415-1618444800-1618531199@www.drgop.com
SUMMARY:Yom Ha'atzmaut
DESCRIPTION:
URL:https://www.drgop.com/event/yom-haatzmaut/
LOCATION:AZ
CATEGORIES:Holiday/Observance
ATTACH;FMTTYPE=image/png:https://www.drgop.com/wp-content/uploads/2021/02/israel-flag-162325_640.png
END:VEVENT
BEGIN:VEVENT
DTSTART;VALUE=DATE:20210415
DTEND;VALUE=DATE:20210416
DTSTAMP:20260423T163837
CREATED:20210228T093448Z
LAST-MODIFIED:20210408T185427Z
UID:418-1618444800-1618531199@www.drgop.com
SUMMARY:Tax Day (postponed in 2021 to May 15th)
DESCRIPTION:Tax Day for Individuals has been postponed from April 15th to May 15th per IRS IR-2021-59\, March 17\, 2021.
URL:https://www.drgop.com/event/tax-day/
LOCATION:AZ
CATEGORIES:National Event
ATTACH;FMTTYPE=image/jpeg:https://www.drgop.com/wp-content/uploads/2021/02/calculator-financial-4560047_640.jpg
END:VEVENT
END:VCALENDAR